BEGIN:VCALENDAR
VERSION:2.0
PRODID:-//dhtmlXScheduler//NONSGML v2.2//EN
X-WR-CALNAME:Wydarzenia
BEGIN:VEVENT
DTSTART:20240509T170000
DTEND:20240509T190000
UID:1
SUMMARY:1. spotkanie z cyklu "BLISKIE SPOTKANIA"
END:VEVENT
END:VCALENDAR