BEGIN:VCALENDAR
VERSION:2.0
PRODID:-//dhtmlXScheduler//NONSGML v2.2//EN
X-WR-CALNAME:Wydarzenia
BEGIN:VEVENT
DTSTART:20251117T110000
DTEND:20251118T120000
UID:1
SUMMARY:10-lecie kierunku lekarskiego na Uniwersytecie Zielonogórskim
END:VEVENT
END:VCALENDAR