BEGIN:VCALENDAR
VERSION:2.0
PRODID:-//dhtmlXScheduler//NONSGML v2.2//EN
X-WR-CALNAME:Wydarzenia
BEGIN:VEVENT
DTSTART:20251017T090000
DTEND:20251017T140000
UID:1
SUMMARY:18-lecie Ogrodu Botanicznego Uniwersytetu Zielonogórskiego
END:VEVENT
END:VCALENDAR