BEGIN:VCALENDAR
VERSION:2.0
PRODID:-//dhtmlXScheduler//NONSGML v2.2//EN
X-WR-CALNAME:Wydarzenia
BEGIN:VEVENT
DTSTART:20250512T140000
DTEND:20250512T153000
UID:1
SUMMARY:Antarktyczna Ekspedycja prosto ze stacji badawczej - spotkanie on-line z jej uczestnikami
END:VEVENT
END:VCALENDAR