BEGIN:VCALENDAR
VERSION:2.0
PRODID:-//dhtmlXScheduler//NONSGML v2.2//EN
X-WR-CALNAME:Wydarzenia
BEGIN:VEVENT
DTSTART:20250919T000000
DTEND:20250921T000000
UID:1
SUMMARY:Bachanalia Fantastyczne 2025
END:VEVENT
END:VCALENDAR