BEGIN:VCALENDAR
VERSION:2.0
PRODID:-//dhtmlXScheduler//NONSGML v2.2//EN
X-WR-CALNAME:Wydarzenia
BEGIN:VEVENT
DTSTART:20240508T000000
DTEND:20240515T000000
UID:1
SUMMARY:„Biblioteka - miejsce na czasie” - 21. edycja Tygodnia Bibliotek
END:VEVENT
END:VCALENDAR