BEGIN:VCALENDAR
VERSION:2.0
PRODID:-//dhtmlXScheduler//NONSGML v2.2//EN
X-WR-CALNAME:Wydarzenia
BEGIN:VEVENT
DTSTART:20240308T180000
DTEND:20240308T200000
UID:1
SUMMARY:„Całuję Twoją dłoń, Madame” - koncert z okazji Dnia Kobiet
END:VEVENT
END:VCALENDAR