BEGIN:VCALENDAR
VERSION:2.0
PRODID:-//dhtmlXScheduler//NONSGML v2.2//EN
X-WR-CALNAME:Wydarzenia
BEGIN:VEVENT
DTSTART:20240819T000000
DTEND:20240824T000000
UID:1
SUMMARY:Corno Brass Music Festival 2024
END:VEVENT
END:VCALENDAR