BEGIN:VCALENDAR
VERSION:2.0
PRODID:-//dhtmlXScheduler//NONSGML v2.2//EN
X-WR-CALNAME:Wydarzenia
BEGIN:VEVENT
DTSTART:20260305T180000
DTEND:20260305T193000
UID:1
SUMMARY:Czwartkowe Spotkania z Nauką: "Jak zbadać pacjenta na orbicie - polski program medycyny kosmicznej”
END:VEVENT
END:VCALENDAR