BEGIN:VCALENDAR
VERSION:2.0
PRODID:-//dhtmlXScheduler//NONSGML v2.2//EN
X-WR-CALNAME:Wydarzenia
BEGIN:VEVENT
DTSTART:20260122T170000
DTEND:20260122T180000
UID:1
SUMMARY:"Czy Karol Darwin był oszustem i ignorantem? O powstawaniu gatunków a zarzuty stawiane jej przez zwolenników teorii inteligentnego projektu"
END:VEVENT
END:VCALENDAR