BEGIN:VCALENDAR
VERSION:2.0
PRODID:-//dhtmlXScheduler//NONSGML v2.2//EN
X-WR-CALNAME:Wydarzenia
BEGIN:VEVENT
DTSTART:20251120T000000
DTEND:20251122T000000
UID:1
SUMMARY:FESTIWAL GREEN TOWN OF JAZZ 2025
END:VEVENT
END:VCALENDAR