BEGIN:VCALENDAR
VERSION:2.0
PRODID:-//dhtmlXScheduler//NONSGML v2.2//EN
X-WR-CALNAME:Wydarzenia
BEGIN:VEVENT
DTSTART:20241204T083000
DTEND:20241204T143000
UID:1
SUMMARY:Finał konkursu branżowego o tytuł: „Lubuskiego MechaDronika”
END:VEVENT
END:VCALENDAR