BEGIN:VCALENDAR
VERSION:2.0
PRODID:-//dhtmlXScheduler//NONSGML v2.2//EN
X-WR-CALNAME:Wydarzenia
BEGIN:VEVENT
DTSTART:20260521T173000
DTEND:20260521T183000
UID:1
SUMMARY:„Historia we współczesnej muzyce rozrywkowej od - Chopina do Sabatonu” - wykład dla mieszkańców
END:VEVENT
END:VCALENDAR