BEGIN:VCALENDAR
VERSION:2.0
PRODID:-//dhtmlXScheduler//NONSGML v2.2//EN
X-WR-CALNAME:Wydarzenia
BEGIN:VEVENT
DTSTART:20250315T100000
DTEND:20250315T150000
UID:1
SUMMARY:I Konferencja Naukowo-Edukacyjna z cyklu Logopedia - konteksty interdyscyplinarne pt. „O logopedii holistycznie i interdyscyplinarnie (z okazji Europejskiego Dnia Logopedy)”
END:VEVENT
END:VCALENDAR