BEGIN:VCALENDAR
VERSION:2.0
PRODID:-//dhtmlXScheduler//NONSGML v2.2//EN
X-WR-CALNAME:Wydarzenia
BEGIN:VEVENT
DTSTART:20260128T150000
DTEND:20260128T163000
UID:1
SUMMARY:I OGÓLNOPOLSKI NAUKOWO-EDUKACYJNY WEBINAR organizowany przez Zakład Psychologii Edukacyjnej i Wychowawczej Instytutu Psychologii
END:VEVENT
END:VCALENDAR