BEGIN:VCALENDAR
VERSION:2.0
PRODID:-//dhtmlXScheduler//NONSGML v2.2//EN
X-WR-CALNAME:Wydarzenia
BEGIN:VEVENT
DTSTART:20260415T150000
DTEND:20260415T163000
UID:1
SUMMARY:II OGÓLNOPOLSKI NAUKOWO-EDUKACYJNY WEBINAR organizowany przez Zakład Psychologii Edukacyjnej i Wychowawczej
END:VEVENT
END:VCALENDAR