BEGIN:VCALENDAR
VERSION:2.0
PRODID:-//dhtmlXScheduler//NONSGML v2.2//EN
X-WR-CALNAME:Wydarzenia
BEGIN:VEVENT
DTSTART:20240522T093000
DTEND:20240522T145500
UID:1
SUMMARY:III Forum pedagogów opiekuńczo-wychowawczych. Opieka - wychowanie - profilaktyka w teorii i praktyce pedagogicznej
END:VEVENT
END:VCALENDAR