BEGIN:VCALENDAR
VERSION:2.0
PRODID:-//dhtmlXScheduler//NONSGML v2.2//EN
X-WR-CALNAME:Wydarzenia
BEGIN:VEVENT
DTSTART:20240518T133000
DTEND:20240518T163000
UID:1
SUMMARY:III konferencja naukowo-metodyczna pt. "Muzykoterapia w logopedii"
END:VEVENT
END:VCALENDAR