BEGIN:VCALENDAR
VERSION:2.0
PRODID:-//dhtmlXScheduler//NONSGML v2.2//EN
X-WR-CALNAME:Wydarzenia
BEGIN:VEVENT
DTSTART:20260423T160000
DTEND:20260423T180000
UID:1
SUMMARY:Inauguracja współpracy z The Catholic University of America Columbus School of Law
END:VEVENT
END:VCALENDAR