BEGIN:VCALENDAR
VERSION:2.0
PRODID:-//dhtmlXScheduler//NONSGML v2.2//EN
X-WR-CALNAME:Wydarzenia
BEGIN:VEVENT
DTSTART:20250926T000000
DTEND:20250927T000000
UID:1
SUMMARY:IV Międzynarodowa Konferencja Zielonogórska - opieka wspierająca, medycyna paliatywna i leczenie bólu
END:VEVENT
END:VCALENDAR