BEGIN:VCALENDAR
VERSION:2.0
PRODID:-//dhtmlXScheduler//NONSGML v2.2//EN
X-WR-CALNAME:Wydarzenia
BEGIN:VEVENT
DTSTART:20230519T000000
DTEND:20230520T000000
UID:1
SUMMARY:IV Mistrzostwa Polski w Szyciu Chirurgicznym Studentów Medycyny
END:VEVENT
END:VCALENDAR