BEGIN:VCALENDAR
VERSION:2.0
PRODID:-//dhtmlXScheduler//NONSGML v2.2//EN
X-WR-CALNAME:Wydarzenia
BEGIN:VEVENT
DTSTART:20260129T170000
DTEND:20260129T183000
UID:1
SUMMARY:"Jak mówić o ekologii, by być słyszanym? Eutoryka w rozmowach o ochronie przyrody" - wykład otwarty dr hab. Moniki Kaczor, prof. UZ
END:VEVENT
END:VCALENDAR