BEGIN:VCALENDAR
VERSION:2.0
PRODID:-//dhtmlXScheduler//NONSGML v2.2//EN
X-WR-CALNAME:Wydarzenia
BEGIN:VEVENT
DTSTART:20241206T100000
DTEND:20241207T150000
UID:1
SUMMARY:Kiermasz Świąteczny organizowany w Instytucie Sztuk Wizualnych UZ
END:VEVENT
END:VCALENDAR