BEGIN:VCALENDAR
VERSION:2.0
PRODID:-//dhtmlXScheduler//NONSGML v2.2//EN
X-WR-CALNAME:Wydarzenia
BEGIN:VEVENT
DTSTART:20251025T130000
DTEND:20251025T150000
UID:1
SUMMARY:Kolejne wydarzenie z cyklu „Narody obok nas”
END:VEVENT
END:VCALENDAR