BEGIN:VCALENDAR
VERSION:2.0
PRODID:-//dhtmlXScheduler//NONSGML v2.2//EN
X-WR-CALNAME:Wydarzenia
BEGIN:VEVENT
DTSTART:20250423T190000
DTEND:20250423T200000
UID:1
SUMMARY:Koncert Jazzowy Big Bandu studentów Instytutu Muzyki UZ
END:VEVENT
END:VCALENDAR