BEGIN:VCALENDAR
VERSION:2.0
PRODID:-//dhtmlXScheduler//NONSGML v2.2//EN
X-WR-CALNAME:Wydarzenia
BEGIN:VEVENT
DTSTART:20251130T160000
DTEND:20251130T180000
UID:1
SUMMARY:Koncert muzyki nowej w ramach projektu „Młodzież komponuje/Jugend komponiert”
END:VEVENT
END:VCALENDAR