BEGIN:VCALENDAR
VERSION:2.0
PRODID:-//dhtmlXScheduler//NONSGML v2.2//EN
X-WR-CALNAME:Wydarzenia
BEGIN:VEVENT
DTSTART:20260421T170000
DTEND:20260421T190000
UID:1
SUMMARY:Koncert pt. „Muzyka mojej ojczyzny”
END:VEVENT
END:VCALENDAR