BEGIN:VCALENDAR
VERSION:2.0
PRODID:-//dhtmlXScheduler//NONSGML v2.2//EN
X-WR-CALNAME:Wydarzenia
BEGIN:VEVENT
DTSTART:20251203T150000
DTEND:20251203T160000
UID:1
SUMMARY:Koncert świąteczny I roku PPIW
END:VEVENT
END:VCALENDAR