BEGIN:VCALENDAR
VERSION:2.0
PRODID:-//dhtmlXScheduler//NONSGML v2.2//EN
X-WR-CALNAME:Wydarzenia
BEGIN:VEVENT
DTSTART:20251125T090000
DTEND:20251126T121500
UID:1
SUMMARY:Konferencja: „Umiędzynarodowienie Nauki – Wyzwania i Szanse”
END:VEVENT
END:VCALENDAR