BEGIN:VCALENDAR
VERSION:2.0
PRODID:-//dhtmlXScheduler//NONSGML v2.2//EN
X-WR-CALNAME:Wydarzenia
BEGIN:VEVENT
DTSTART:20250602T083000
DTEND:20250602T154500
UID:1
SUMMARY:Konferencja Naukowa pt. „Nowoczesne technologie w prawie, zarządzaniu i etyce. Sztuczna inteligencja, kwanty i co dalej?”
END:VEVENT
END:VCALENDAR