BEGIN:VCALENDAR
VERSION:2.0
PRODID:-//dhtmlXScheduler//NONSGML v2.2//EN
X-WR-CALNAME:Wydarzenia
BEGIN:VEVENT
DTSTART:20260518T100000
DTEND:20260518T143000
UID:1
SUMMARY:Konferencja szkoleniowa „Postępowania awansowe w świetle dotychczasowych doświadczeń. Praktyka organów I i II instancji”
END:VEVENT
END:VCALENDAR