BEGIN:VCALENDAR
VERSION:2.0
PRODID:-//dhtmlXScheduler//NONSGML v2.2//EN
X-WR-CALNAME:Wydarzenia
BEGIN:VEVENT
DTSTART:20251023T090000
DTEND:20251024T160000
UID:1
SUMMARY:II Kongres Geoinformacyjny „Rola technologii geoinformacyjnych w nauce, gospodarce i administracji”
END:VEVENT
END:VCALENDAR