BEGIN:VCALENDAR
VERSION:2.0
PRODID:-//dhtmlXScheduler//NONSGML v2.2//EN
X-WR-CALNAME:Wydarzenia
BEGIN:VEVENT
DTSTART:20241114T090000
DTEND:20241114T142000
UID:1
SUMMARY:„Koniunktura gospodarcza w czasach niepewności. Jak diagnozować i monitorować”
END:VEVENT
END:VCALENDAR