BEGIN:VCALENDAR
VERSION:2.0
PRODID:-//dhtmlXScheduler//NONSGML v2.2//EN
X-WR-CALNAME:Wydarzenia
BEGIN:VEVENT
DTSTART:20260507T173000
DTEND:20260507T183000
UID:1
SUMMARY:„Lubuska Recepta na Długowieczność - od tradycji do nauki o stylu życia” - wykład dla mieszkańców
END:VEVENT
END:VCALENDAR