BEGIN:VCALENDAR
VERSION:2.0
PRODID:-//dhtmlXScheduler//NONSGML v2.2//EN
X-WR-CALNAME:Wydarzenia
BEGIN:VEVENT
DTSTART:20221122T103000
DTEND:20221122T133000
UID:1
SUMMARY:Lubuski Dzień Onkologii 2022
END:VEVENT
END:VCALENDAR