BEGIN:VCALENDAR
VERSION:2.0
PRODID:-//dhtmlXScheduler//NONSGML v2.2//EN
X-WR-CALNAME:Wydarzenia
BEGIN:VEVENT
DTSTART:20240612T093000
DTEND:20240612T141500
UID:1
SUMMARY:Lubuskie Forum Oświaty Samorządowej
END:VEVENT
END:VCALENDAR