BEGIN:VCALENDAR
VERSION:2.0
PRODID:-//dhtmlXScheduler//NONSGML v2.2//EN
X-WR-CALNAME:Wydarzenia
BEGIN:VEVENT
DTSTART:20240211T173000
DTEND:20240211T193000
UID:1
SUMMARY:Mecz Orlen Basket Ligi: Enea Stelmet Zastal Zielona Góra vs Tauron GTK Gliwice
END:VEVENT
END:VCALENDAR