BEGIN:VCALENDAR
VERSION:2.0
PRODID:-//dhtmlXScheduler//NONSGML v2.2//EN
X-WR-CALNAME:Wydarzenia
BEGIN:VEVENT
DTSTART:20250411T190000
DTEND:20250411T210000
UID:1
SUMMARY:Mój Idol I Ja - 3 edycja
END:VEVENT
END:VCALENDAR