BEGIN:VCALENDAR
VERSION:2.0
PRODID:-//dhtmlXScheduler//NONSGML v2.2//EN
X-WR-CALNAME:Wydarzenia
BEGIN:VEVENT
DTSTART:20250920T120000
DTEND:20250920T170000
UID:1
SUMMARY:Na sygnale. Piknik bezpieczeństwa i profilaktyki
END:VEVENT
END:VCALENDAR