BEGIN:VCALENDAR
VERSION:2.0
PRODID:-//dhtmlXScheduler//NONSGML v2.2//EN
X-WR-CALNAME:Wydarzenia
BEGIN:VEVENT
DTSTART:20230522T090000
DTEND:20230522T150000
UID:1
SUMMARY:"Nauczyciel z pasją - pasje przyszłych nauczycieli" - wyniki badań przeprowadzonych przez studentów
END:VEVENT
END:VCALENDAR