BEGIN:VCALENDAR
VERSION:2.0
PRODID:-//dhtmlXScheduler//NONSGML v2.2//EN
X-WR-CALNAME:Wydarzenia
BEGIN:VEVENT
DTSTART:20230512T130000
DTEND:20230512T150000
UID:1
SUMMARY:OBRAZY 6. DEKADY - wystawa prac  Stanisława Ryszarda Kortyki   w Galerii Rektorat
END:VEVENT
END:VCALENDAR