BEGIN:VCALENDAR
VERSION:2.0
PRODID:-//dhtmlXScheduler//NONSGML v2.2//EN
X-WR-CALNAME:Wydarzenia
BEGIN:VEVENT
DTSTART:20241118T105000
DTEND:20241118T110000
UID:1
SUMMARY:Odsłonięcie figurki Bachantki opatrzonej atrybutami Unii Europejskiej
END:VEVENT
END:VCALENDAR