BEGIN:VCALENDAR
VERSION:2.0
PRODID:-//dhtmlXScheduler//NONSGML v2.2//EN
X-WR-CALNAME:Wydarzenia
BEGIN:VEVENT
DTSTART:20250520T110000
DTEND:20250520T140000
UID:1
SUMMARY:Open Day B2C2
END:VEVENT
END:VCALENDAR