BEGIN:VCALENDAR
VERSION:2.0
PRODID:-//dhtmlXScheduler//NONSGML v2.2//EN
X-WR-CALNAME:Wydarzenia
BEGIN:VEVENT
DTSTART:20250602T130000
DTEND:20250602T150000
UID:1
SUMMARY:Otwarte posiedzenie Komitetu Nauki PZITB - Jubileusz 100. urodzin Profesora Antoniego Matysiaka
END:VEVENT
END:VCALENDAR