BEGIN:VCALENDAR
VERSION:2.0
PRODID:-//dhtmlXScheduler//NONSGML v2.2//EN
X-WR-CALNAME:Wydarzenia
BEGIN:VEVENT
DTSTART:20230517T100000
DTEND:20230517T120000
UID:1
SUMMARY:Otwarty wykład prof. dr hab. inż. Leszka A. Dobrzańskiego
END:VEVENT
END:VCALENDAR