BEGIN:VCALENDAR
VERSION:2.0
PRODID:-//dhtmlXScheduler//NONSGML v2.2//EN
X-WR-CALNAME:Wydarzenia
BEGIN:VEVENT
DTSTART:20260311T110000
DTEND:20260311T130000
UID:1
SUMMARY:„Piękno zaczyna się od zdrowia. Rozmowy o HPV”
END:VEVENT
END:VCALENDAR