BEGIN:VCALENDAR
VERSION:2.0
PRODID:-//dhtmlXScheduler//NONSGML v2.2//EN
X-WR-CALNAME:Wydarzenia
BEGIN:VEVENT
DTSTART:20260428T170000
DTEND:20260428T180000
UID:1
SUMMARY:Rozmowy o Zielonej Górze - Reminiscencje Uniwersyteckie
END:VEVENT
END:VCALENDAR