BEGIN:VCALENDAR
VERSION:2.0
PRODID:-//dhtmlXScheduler//NONSGML v2.2//EN
X-WR-CALNAME:Wydarzenia
BEGIN:VEVENT
DTSTART:20220524T100000
DTEND:20220524T150000
UID:1
SUMMARY:SECO/DAY na Wydziale Mechanicznym UZ
END:VEVENT
END:VCALENDAR