BEGIN:VCALENDAR
VERSION:2.0
PRODID:-//dhtmlXScheduler//NONSGML v2.2//EN
X-WR-CALNAME:Wydarzenia
BEGIN:VEVENT
DTSTART:20251017T000000
DTEND:20251019T000000
UID:1
SUMMARY:Sport akademicki - weekend 17-19.10.2025
END:VEVENT
END:VCALENDAR