BEGIN:VCALENDAR
VERSION:2.0
PRODID:-//dhtmlXScheduler//NONSGML v2.2//EN
X-WR-CALNAME:Wydarzenia
BEGIN:VEVENT
DTSTART:20240405T000000
DTEND:20240407T000000
UID:1
SUMMARY:Sportowy weekend z KS AZS UZ
END:VEVENT
END:VCALENDAR